BEGIN:VCALENDAR
VERSION:2.0
PRODID:-//time.you/holidays//NONSGML v1.0//EN
BEGIN:VEVENT
UID:7f6bfbcf-ffe6-4da1-a90b-cd88bf7248d6
DTSTAMP:20260422T022301Z
DTSTART;VALUE=DATE:20260525
SUMMARY:Whit Monday (Liechtenstein)
END:VEVENT
END:VCALENDAR