BEGIN:VCALENDAR
VERSION:2.0
PRODID:-//time.you/holidays//NONSGML v1.0//EN
BEGIN:VEVENT
UID:7c83bea0-c151-46af-ad3e-423ca057b77c
DTSTAMP:20260420T095438Z
DTSTART;VALUE=DATE:20261224
SUMMARY:Christmas Eve (Lithuania)
END:VEVENT
END:VCALENDAR