BEGIN:VCALENDAR
VERSION:2.0
PRODID:-//time.you/holidays//NONSGML v1.0//EN
BEGIN:VEVENT
UID:e259da6d-3da8-43a1-b7f3-45ec3754112a
DTSTAMP:20260420T050858Z
DTSTART;VALUE=DATE:20260406
SUMMARY:Easter Monday (Lithuania)
END:VEVENT
END:VCALENDAR