BEGIN:VCALENDAR
VERSION:2.0
PRODID:-//time.you/holidays//NONSGML v1.0//EN
BEGIN:VEVENT
UID:93823fa3-9f2a-4841-bbb9-9affaf686876
DTSTAMP:20260420T094931Z
DTSTART;VALUE=DATE:20260405
SUMMARY:Easter Sunday (Lithuania)
END:VEVENT
END:VCALENDAR