BEGIN:VCALENDAR
VERSION:2.0
PRODID:-//time.you/holidays//NONSGML v1.0//EN
BEGIN:VEVENT
UID:0ff89ec7-78d5-494b-a915-5d92dc30e464
DTSTAMP:20260421T035313Z
DTSTART;VALUE=DATE:20260706
SUMMARY:Statehood Day (Lithuania)
END:VEVENT
END:VCALENDAR