BEGIN:VCALENDAR
VERSION:2.0
PRODID:-//time.you/holidays//NONSGML v1.0//EN
BEGIN:VEVENT
UID:5d84f247-3191-43d5-b3d0-95e57a32a2b3
DTSTAMP:20260419T234151Z
DTSTART;VALUE=DATE:20261101
SUMMARY:All Saints' Day (Luxembourg)
END:VEVENT
END:VCALENDAR