BEGIN:VCALENDAR
VERSION:2.0
PRODID:-//time.you/holidays//NONSGML v1.0//EN
BEGIN:VEVENT
UID:e8ec7272-41bf-40b4-8ef3-2824987ddced
DTSTAMP:20260421T223527Z
DTSTART;VALUE=DATE:20260514
SUMMARY:Ascension Day (Luxembourg)
END:VEVENT
END:VCALENDAR