BEGIN:VCALENDAR
VERSION:2.0
PRODID:-//time.you/holidays//NONSGML v1.0//EN
BEGIN:VEVENT
UID:527353e5-7069-41d6-845b-9124bedbacc1
DTSTAMP:20260424T170934Z
DTSTART;VALUE=DATE:20260101
SUMMARY:New Year's Day (Luxembourg)
END:VEVENT
END:VCALENDAR