BEGIN:VCALENDAR
VERSION:2.0
PRODID:-//time.you/holidays//NONSGML v1.0//EN
BEGIN:VEVENT
UID:cd4422a9-50e4-4f33-9b6d-748e674a3fdc
DTSTAMP:20260420T093328Z
DTSTART;VALUE=DATE:20261226
SUMMARY:Saint Stephen's Day (Luxembourg)
END:VEVENT
END:VCALENDAR