BEGIN:VCALENDAR
VERSION:2.0
PRODID:-//time.you/holidays//NONSGML v1.0//EN
BEGIN:VEVENT
UID:a94f6450-bdb9-48e4-a832-755e4c695405
DTSTAMP:20260421T222236Z
DTSTART;VALUE=DATE:20261018
SUMMARY:Double Ninth Festival (Macao)
END:VEVENT
END:VCALENDAR