BEGIN:VCALENDAR
VERSION:2.0
PRODID:-//time.you/holidays//NONSGML v1.0//EN
BEGIN:VEVENT
UID:6ac6a03a-4e06-4b66-8208-e32a450a67f8
DTSTAMP:20260420T064812Z
DTSTART;VALUE=DATE:20261001
SUMMARY:National Day of the People's Republic of China (Macao)
END:VEVENT
END:VCALENDAR