BEGIN:VCALENDAR
VERSION:2.0
PRODID:-//time.you/holidays//NONSGML v1.0//EN
BEGIN:VEVENT
UID:0f9e348e-7d18-4aff-8574-5f81d3934acc
DTSTAMP:20260419T234152Z
DTSTART;VALUE=DATE:20260101
SUMMARY:New Year's Day (Macao)
END:VEVENT
END:VCALENDAR