BEGIN:VCALENDAR
VERSION:2.0
PRODID:-//time.you/holidays//NONSGML v1.0//EN
BEGIN:VEVENT
UID:d3e1ecae-2287-42a2-a3a6-64550557af08
DTSTAMP:20260420T103816Z
DTSTART;VALUE=DATE:20260926
SUMMARY:The Day following Mid-Autumn Festival (Macao)
END:VEVENT
END:VCALENDAR