BEGIN:VCALENDAR
VERSION:2.0
PRODID:-//time.you/holidays//NONSGML v1.0//EN
BEGIN:VEVENT
UID:b3dc456f-854d-43c8-b9bb-e5b758000480
DTSTAMP:20260422T051739Z
DTSTART;VALUE=DATE:20260219
SUMMARY:The third day of Chinese New Year (Macao)
END:VEVENT
END:VCALENDAR