BEGIN:VCALENDAR
VERSION:2.0
PRODID:-//time.you/holidays//NONSGML v1.0//EN
BEGIN:VEVENT
UID:55b6e146-088e-404e-afde-911a8751f119
DTSTAMP:20260421T175330Z
DTSTART;VALUE=DATE:20261101
SUMMARY:All Saints' Day (Madagascar)
END:VEVENT
END:VCALENDAR