BEGIN:VCALENDAR
VERSION:2.0
PRODID:-//time.you/holidays//NONSGML v1.0//EN
BEGIN:VEVENT
UID:b75efdfe-4582-4ed1-a522-b61aa2cd5c22
DTSTAMP:20260420T073521Z
DTSTART;VALUE=DATE:20261225
SUMMARY:Christmas Day (Madagascar)
END:VEVENT
END:VCALENDAR