BEGIN:VCALENDAR
VERSION:2.0
PRODID:-//time.you/holidays//NONSGML v1.0//EN
BEGIN:VEVENT
UID:12b60662-9c2a-4f35-af18-721d158cfa30
DTSTAMP:20260422T084834Z
DTSTART;VALUE=DATE:20260626
SUMMARY:Independence Day (Madagascar)
END:VEVENT
END:VCALENDAR