BEGIN:VCALENDAR
VERSION:2.0
PRODID:-//time.you/holidays//NONSGML v1.0//EN
BEGIN:VEVENT
UID:5d2e669c-a116-4b59-a7f3-e9276ab32bf9
DTSTAMP:20260420T131800Z
DTSTART;VALUE=DATE:20260531
SUMMARY:Mother's Day (Madagascar)
END:VEVENT
END:VCALENDAR