BEGIN:VCALENDAR
VERSION:2.0
PRODID:-//time.you/holidays//NONSGML v1.0//EN
BEGIN:VEVENT
UID:b5f86cfd-bcc0-4698-a505-932729a4be10
DTSTAMP:20260420T204551Z
DTSTART;VALUE=DATE:20260525
SUMMARY:Whit Monday (Madagascar)
END:VEVENT
END:VCALENDAR