BEGIN:VCALENDAR
VERSION:2.0
PRODID:-//time.you/holidays//NONSGML v1.0//EN
BEGIN:VEVENT
UID:31b65e96-b44d-471d-ba58-cf236873e47f
DTSTAMP:20260420T115949Z
DTSTART;VALUE=DATE:20271227
SUMMARY:Christmas Day (observed) (Malawi)
END:VEVENT
END:VCALENDAR