BEGIN:VCALENDAR
VERSION:2.0
PRODID:-//time.you/holidays//NONSGML v1.0//EN
BEGIN:VEVENT
UID:c6da8f42-5693-4383-98c4-0eeafa659eed
DTSTAMP:20260420T162445Z
DTSTART;VALUE=DATE:20300708
SUMMARY:Independence Day (observed) (Malawi)
END:VEVENT
END:VCALENDAR