BEGIN:VCALENDAR
VERSION:2.0
PRODID:-//time.you/holidays//NONSGML v1.0//EN
BEGIN:VEVENT
UID:7c0eace6-2751-49aa-adc7-d19e28576071
DTSTAMP:20260420T200657Z
DTSTART;VALUE=DATE:20260706
SUMMARY:Independence Day (Malawi)
END:VEVENT
END:VCALENDAR