BEGIN:VCALENDAR
VERSION:2.0
PRODID:-//time.you/holidays//NONSGML v1.0//EN
BEGIN:VEVENT
UID:91815a47-12b9-401f-994c-d53d88bf94fd
DTSTAMP:20260421T203958Z
DTSTART;VALUE=DATE:20260115
SUMMARY:John Chilembwe Day (Malawi)
END:VEVENT
END:VCALENDAR