BEGIN:VCALENDAR
VERSION:2.0
PRODID:-//time.you/holidays//NONSGML v1.0//EN
BEGIN:VEVENT
UID:42902a83-ca91-4948-9f53-bcc99c696763
DTSTAMP:20260421T155054Z
DTSTART;VALUE=DATE:20280515
SUMMARY:Kamuzu Day (observed) (Malawi)
END:VEVENT
END:VCALENDAR