BEGIN:VCALENDAR
VERSION:2.0
PRODID:-//time.you/holidays//NONSGML v1.0//EN
BEGIN:VEVENT
UID:25d8fe91-4053-41c3-9fd5-c8dfc3a6b4d6
DTSTAMP:20260421T130300Z
DTSTART;VALUE=DATE:20270503
SUMMARY:Labour Day (observed) (Malawi)
END:VEVENT
END:VCALENDAR