BEGIN:VCALENDAR
VERSION:2.0
PRODID:-//time.you/holidays//NONSGML v1.0//EN
BEGIN:VEVENT
UID:96e3976f-0842-47b7-8962-68002b10ce1c
DTSTAMP:20260419T233520Z
DTSTART;VALUE=DATE:20260101
SUMMARY:New Year's Day (Malawi)
END:VEVENT
END:VCALENDAR