BEGIN:VCALENDAR
VERSION:2.0
PRODID:-//time.you/holidays//NONSGML v1.0//EN
BEGIN:VEVENT
UID:e1c1ffe8-1dc7-461b-9882-729b3bbdbe47
DTSTAMP:20260422T040441Z
DTSTART;VALUE=DATE:20250606
SUMMARY:Arafat Day (Malaysia)
END:VEVENT
END:VCALENDAR