BEGIN:VCALENDAR
VERSION:2.0
PRODID:-//time.you/holidays//NONSGML v1.0//EN
BEGIN:VEVENT
UID:e5545624-5016-4ad2-935a-fe6556ad4dd9
DTSTAMP:20260422T014543Z
DTSTART;VALUE=DATE:20230323
SUMMARY:Beginning of Ramadan; Birthday of the Sultan of Johor (Malaysia)
END:VEVENT
END:VCALENDAR