BEGIN:VCALENDAR
VERSION:2.0
PRODID:-//time.you/holidays//NONSGML v1.0//EN
BEGIN:VEVENT
UID:a0c90938-928c-4987-a21c-1bf251279afc
DTSTAMP:20260422T071443Z
DTSTART;VALUE=DATE:20280130
SUMMARY:Beginning of Ramadan (observed, estimated) (Malaysia)
END:VEVENT
END:VCALENDAR