BEGIN:VCALENDAR
VERSION:2.0
PRODID:-//time.you/holidays//NONSGML v1.0//EN
BEGIN:VEVENT
UID:915e5d9f-7cf0-4f1c-bfed-d60e9145d4ed
DTSTAMP:20260425T024837Z
DTSTART;VALUE=DATE:20250303
SUMMARY:Beginning of Ramadan (observed) (Malaysia)
END:VEVENT
END:VCALENDAR