BEGIN:VCALENDAR
VERSION:2.0
PRODID:-//time.you/holidays//NONSGML v1.0//EN
BEGIN:VEVENT
UID:b45f07c9-50f6-447a-a5cf-0079e6fd6ae7
DTSTAMP:20260421T130716Z
DTSTART;VALUE=DATE:20250302
SUMMARY:Beginning of Ramadan (Malaysia)
END:VEVENT
END:VCALENDAR