BEGIN:VCALENDAR
VERSION:2.0
PRODID:-//time.you/holidays//NONSGML v1.0//EN
BEGIN:VEVENT
UID:b5edcf99-5a58-451b-bebc-bd95e47a6ffc
DTSTAMP:20260421T203500Z
DTSTART;VALUE=DATE:20260601
SUMMARY:Birthday of HM Yang di-Pertuan Agong; Dayak Festival Day (Malaysia)
END:VEVENT
END:VCALENDAR