BEGIN:VCALENDAR
VERSION:2.0
PRODID:-//time.you/holidays//NONSGML v1.0//EN
BEGIN:VEVENT
UID:a447d3c4-aff4-48d6-a321-56c90934f155
DTSTAMP:20260424T131749Z
DTSTART;VALUE=DATE:20260601
SUMMARY:Birthday of HM Yang di-Pertuan Agong (Malaysia)
END:VEVENT
END:VCALENDAR