BEGIN:VCALENDAR
VERSION:2.0
PRODID:-//time.you/holidays//NONSGML v1.0//EN
BEGIN:VEVENT
UID:3254ff39-9fa8-4b4d-8c5e-ff6987e59b2f
DTSTAMP:20260421T211556Z
DTSTART;VALUE=DATE:20260824
SUMMARY:Birthday of the Governor of Malacca (Malaysia)
END:VEVENT
END:VCALENDAR