BEGIN:VCALENDAR
VERSION:2.0
PRODID:-//time.you/holidays//NONSGML v1.0//EN
BEGIN:VEVENT
UID:650e92aa-f5c3-41a7-b881-4e66efa6e3dd
DTSTAMP:20260422T011908Z
DTSTART;VALUE=DATE:20260711
SUMMARY:Birthday of the Governor of Penang (Malaysia)
END:VEVENT
END:VCALENDAR