BEGIN:VCALENDAR
VERSION:2.0
PRODID:-//time.you/holidays//NONSGML v1.0//EN
BEGIN:VEVENT
UID:636c8468-9daf-41e9-808c-bff33b0eccec
DTSTAMP:20260422T072051Z
DTSTART;VALUE=DATE:20261010
SUMMARY:Birthday of the Governor of Sarawak (Malaysia)
END:VEVENT
END:VCALENDAR