BEGIN:VCALENDAR
VERSION:2.0
PRODID:-//time.you/holidays//NONSGML v1.0//EN
BEGIN:VEVENT
UID:9f8e7016-21ae-4625-a688-b9876a6ec13e
DTSTAMP:20260424T131629Z
DTSTART;VALUE=DATE:20270517
SUMMARY:Birthday of the Raja of Perlis; Eid al-Adha (Second Day) (estimated) (Malaysia)
END:VEVENT
END:VCALENDAR