BEGIN:VCALENDAR
VERSION:2.0
PRODID:-//time.you/holidays//NONSGML v1.0//EN
BEGIN:VEVENT
UID:5a124ea8-698b-45f6-b01b-7ad52814ff7f
DTSTAMP:20260420T141111Z
DTSTART;VALUE=DATE:20260518
SUMMARY:Birthday of the Raja of Perlis (observed) (Malaysia)
END:VEVENT
END:VCALENDAR