BEGIN:VCALENDAR
VERSION:2.0
PRODID:-//time.you/holidays//NONSGML v1.0//EN
BEGIN:VEVENT
UID:af66fe81-7eec-4a99-bbba-584bbcb14639
DTSTAMP:20260420T141146Z
DTSTART;VALUE=DATE:20260517
SUMMARY:Birthday of the Raja of Perlis (Malaysia)
END:VEVENT
END:VCALENDAR