BEGIN:VCALENDAR
VERSION:2.0
PRODID:-//time.you/holidays//NONSGML v1.0//EN
BEGIN:VEVENT
UID:3f24e6cb-8303-4173-99c4-be3c3b49cfa7
DTSTAMP:20260420T141108Z
DTSTART;VALUE=DATE:20260621
SUMMARY:Birthday of The Sultan of Kedah (Malaysia)
END:VEVENT
END:VCALENDAR