BEGIN:VCALENDAR
VERSION:2.0
PRODID:-//time.you/holidays//NONSGML v1.0//EN
BEGIN:VEVENT
UID:7ba98fe0-0469-405c-823e-b9f348142e27
DTSTAMP:20260420T141115Z
DTSTART;VALUE=DATE:20260929
SUMMARY:Birthday of the Sultan of Kelantan (Malaysia)
END:VEVENT
END:VCALENDAR