BEGIN:VCALENDAR
VERSION:2.0
PRODID:-//time.you/holidays//NONSGML v1.0//EN
BEGIN:VEVENT
UID:e4c426f0-9705-4649-b320-224d68efcf7d
DTSTAMP:20260422T043358Z
DTSTART;VALUE=DATE:20260114
SUMMARY:Birthday of the Sultan of Negeri Sembilan (Malaysia)
END:VEVENT
END:VCALENDAR