BEGIN:VCALENDAR
VERSION:2.0
PRODID:-//time.you/holidays//NONSGML v1.0//EN
BEGIN:VEVENT
UID:59920fff-f3e2-4ffe-8ade-3965bc565440
DTSTAMP:20260420T141117Z
DTSTART;VALUE=DATE:20260730
SUMMARY:Birthday of the Sultan of Pahang (Malaysia)
END:VEVENT
END:VCALENDAR