BEGIN:VCALENDAR
VERSION:2.0
PRODID:-//time.you/holidays//NONSGML v1.0//EN
BEGIN:VEVENT
UID:747bdd3e-a1c2-49a0-95e0-12169a318c4f
DTSTAMP:20260420T152953Z
DTSTART;VALUE=DATE:20260426
SUMMARY:Birthday of the Sultan of Terengganu (Malaysia)
END:VEVENT
END:VCALENDAR