BEGIN:VCALENDAR
VERSION:2.0
PRODID:-//time.you/holidays//NONSGML v1.0//EN
BEGIN:VEVENT
UID:c70d3bb5-12d6-4463-939e-216b05284de6
DTSTAMP:20260421T235835Z
DTSTART;VALUE=DATE:20220201
SUMMARY:Chinese New Year; Federal Territory Day (Malaysia)
END:VEVENT
END:VCALENDAR