BEGIN:VCALENDAR
VERSION:2.0
PRODID:-//time.you/holidays//NONSGML v1.0//EN
BEGIN:VEVENT
UID:54378969-b420-4de6-97a9-5ee41907d661
DTSTAMP:20260424T025726Z
DTSTART;VALUE=DATE:20240212
SUMMARY:Chinese New Year (observed) (Malaysia)
END:VEVENT
END:VCALENDAR