BEGIN:VCALENDAR
VERSION:2.0
PRODID:-//time.you/holidays//NONSGML v1.0//EN
BEGIN:VEVENT
UID:3cee2094-1454-4d74-a5ab-c57769a083ce
DTSTAMP:20260422T053336Z
DTSTART;VALUE=DATE:20250130
SUMMARY:Chinese New Year (Second Day) (Malaysia)
END:VEVENT
END:VCALENDAR