BEGIN:VCALENDAR
VERSION:2.0
PRODID:-//time.you/holidays//NONSGML v1.0//EN
BEGIN:VEVENT
UID:7efa9137-6e3f-4b95-976e-e2f2afd24bd5
DTSTAMP:20260424T145452Z
DTSTART;VALUE=DATE:20250129
SUMMARY:Chinese New Year (Malaysia)
END:VEVENT
END:VCALENDAR