BEGIN:VCALENDAR
VERSION:2.0
PRODID:-//time.you/holidays//NONSGML v1.0//EN
BEGIN:VEVENT
UID:7501e543-697f-43e2-a15c-1b6b6719a5b0
DTSTAMP:20260422T041533Z
DTSTART;VALUE=DATE:20271225
SUMMARY:Christmas Day; Isra' and Mi'raj (estimated) (Malaysia)
END:VEVENT
END:VCALENDAR