BEGIN:VCALENDAR
VERSION:2.0
PRODID:-//time.you/holidays//NONSGML v1.0//EN
BEGIN:VEVENT
UID:cc9c4da8-b627-4a62-89bc-772a393e5940
DTSTAMP:20260421T221807Z
DTSTART;VALUE=DATE:20261227
SUMMARY:Christmas Day (observed) (Malaysia)
END:VEVENT
END:VCALENDAR